BEGIN:VCALENDAR
VERSION:2.0
PRODID:-//Newtown Board of Realtors - ECPv6.15.13//NONSGML v1.0//EN
CALSCALE:GREGORIAN
METHOD:PUBLISH
X-WR-CALNAME:Newtown Board of Realtors
X-ORIGINAL-URL:https://newtownboardrealtors.com
X-WR-CALDESC:Events for Newtown Board of Realtors
REFRESH-INTERVAL;VALUE=DURATION:PT1H
X-Robots-Tag:noindex
X-PUBLISHED-TTL:PT1H
BEGIN:VTIMEZONE
TZID:America/New_York
BEGIN:DAYLIGHT
TZOFFSETFROM:-0500
TZOFFSETTO:-0400
TZNAME:EDT
DTSTART:20250309T070000
END:DAYLIGHT
BEGIN:STANDARD
TZOFFSETFROM:-0400
TZOFFSETTO:-0500
TZNAME:EST
DTSTART:20251102T060000
END:STANDARD
BEGIN:DAYLIGHT
TZOFFSETFROM:-0500
TZOFFSETTO:-0400
TZNAME:EDT
DTSTART:20260308T070000
END:DAYLIGHT
BEGIN:STANDARD
TZOFFSETFROM:-0400
TZOFFSETTO:-0500
TZNAME:EST
DTSTART:20261101T060000
END:STANDARD
BEGIN:DAYLIGHT
TZOFFSETFROM:-0500
TZOFFSETTO:-0400
TZNAME:EDT
DTSTART:20270314T070000
END:DAYLIGHT
BEGIN:STANDARD
TZOFFSETFROM:-0400
TZOFFSETTO:-0500
TZNAME:EST
DTSTART:20271107T060000
END:STANDARD
END:VTIMEZONE
BEGIN:VEVENT
DTSTART;TZID=America/New_York:20261009T090000
DTEND;TZID=America/New_York:20261009T100000
DTSTAMP:20260423T201147
CREATED:20260201T224407Z
LAST-MODIFIED:20260201T224407Z
UID:2011-1791536400-1791540000@newtownboardrealtors.com
SUMMARY:October Board of Directors Meeting
DESCRIPTION:Agenda\, Minutes and Treasurer Information to be Sent Separately.
URL:https://newtownboardrealtors.com/event/october-board-of-directors-meeting/
LOCATION:Online via Zoom
CATEGORIES:Board Meeting
ORGANIZER;CN="Fran Cormier":MAILTO:gfbor@fairfieldboardrealtors.com
END:VEVENT
BEGIN:VEVENT
DTSTART;TZID=America/New_York:20261113T090000
DTEND;TZID=America/New_York:20261113T100000
DTSTAMP:20260423T201147
CREATED:20260201T224509Z
LAST-MODIFIED:20260201T224509Z
UID:2013-1794560400-1794564000@newtownboardrealtors.com
SUMMARY:November Board of Directors Meeting
DESCRIPTION:Agenda\, Minutes and Treasurer Information to be Sent Separately.
URL:https://newtownboardrealtors.com/event/november-board-of-directors-meeting-2/
LOCATION:Online via Zoom
CATEGORIES:Board Meeting
ORGANIZER;CN="Fran Cormier":MAILTO:gfbor@fairfieldboardrealtors.com
END:VEVENT
BEGIN:VEVENT
DTSTART;VALUE=DATE:20261203
DTEND;VALUE=DATE:20261204
DTSTAMP:20260423T201147
CREATED:20260201T225725Z
LAST-MODIFIED:20260201T230301Z
UID:2017-1796256000-1796342399@newtownboardrealtors.com
SUMMARY:Holiday Membership Party
DESCRIPTION:Celebrate the season with the Newtown Board of Realtors at our annual Holiday Party ~ an evening that brings business and celebration together. The event will feature the installation of the 2027 Newtown Board of Directors\, a special appreciation ceremony honoring our valued sponsors\, and plenty of time to enjoy great food\, music\, dancing\, and meaningful conversation with fellow Realtors. It’s the perfect way to reflect\, connect\, and toast to the year ahead. 🎉🥂
URL:https://newtownboardrealtors.com/event/holiday-membership-party/
CATEGORIES:Membership Meeting,Social Event
ORGANIZER;CN="Lindsay Gaudioso":MAILTO:lindsaygaudioso@gmail.com
END:VEVENT
BEGIN:VEVENT
DTSTART;TZID=America/New_York:20261211T090000
DTEND;TZID=America/New_York:20261211T100000
DTSTAMP:20260423T201147
CREATED:20260201T224607Z
LAST-MODIFIED:20260201T224607Z
UID:2015-1796979600-1796983200@newtownboardrealtors.com
SUMMARY:December Board of Directors Meeting
DESCRIPTION:Agenda\, Minutes and Treasurer Information to be Sent Separately.
URL:https://newtownboardrealtors.com/event/december-board-of-directors-meeting-2/
LOCATION:Online via Zoom
CATEGORIES:Board Meeting
ORGANIZER;CN="Fran Cormier":MAILTO:gfbor@fairfieldboardrealtors.com
END:VEVENT
END:VCALENDAR