BEGIN:VCALENDAR
VERSION:2.0
PRODID:-//Newtown Board of Realtors - ECPv6.15.13//NONSGML v1.0//EN
CALSCALE:GREGORIAN
METHOD:PUBLISH
X-ORIGINAL-URL:https://newtownboardrealtors.com
X-WR-CALDESC:Events for Newtown Board of Realtors
REFRESH-INTERVAL;VALUE=DURATION:PT1H
X-Robots-Tag:noindex
X-PUBLISHED-TTL:PT1H
BEGIN:VTIMEZONE
TZID:America/New_York
BEGIN:DAYLIGHT
TZOFFSETFROM:-0500
TZOFFSETTO:-0400
TZNAME:EDT
DTSTART:20250309T070000
END:DAYLIGHT
BEGIN:STANDARD
TZOFFSETFROM:-0400
TZOFFSETTO:-0500
TZNAME:EST
DTSTART:20251102T060000
END:STANDARD
BEGIN:DAYLIGHT
TZOFFSETFROM:-0500
TZOFFSETTO:-0400
TZNAME:EDT
DTSTART:20260308T070000
END:DAYLIGHT
BEGIN:STANDARD
TZOFFSETFROM:-0400
TZOFFSETTO:-0500
TZNAME:EST
DTSTART:20261101T060000
END:STANDARD
BEGIN:DAYLIGHT
TZOFFSETFROM:-0500
TZOFFSETTO:-0400
TZNAME:EDT
DTSTART:20270314T070000
END:DAYLIGHT
BEGIN:STANDARD
TZOFFSETFROM:-0400
TZOFFSETTO:-0500
TZNAME:EST
DTSTART:20271107T060000
END:STANDARD
END:VTIMEZONE
BEGIN:VEVENT
DTSTART;TZID=America/New_York:20260325T090000
DTEND;TZID=America/New_York:20260325T100000
DTSTAMP:20260423T190033
CREATED:20260201T212558Z
LAST-MODIFIED:20260201T221221Z
UID:1983-1774429200-1774432800@newtownboardrealtors.com
SUMMARY:March Board of Directors Meeting
DESCRIPTION:Agenda\, Minutes and Treasurer Information to be Sent Separately.
URL:https://newtownboardrealtors.com/event/march-board-of-directors-meeting/
LOCATION:Online via Zoom
CATEGORIES:Board Meeting
ORGANIZER;CN="Fran Cormier":MAILTO:gfbor@fairfieldboardrealtors.com
END:VEVENT
BEGIN:VEVENT
DTSTART;TZID=America/New_York:20260407T091500
DTEND;TZID=America/New_York:20260407T103000
DTSTAMP:20260423T190033
CREATED:20260306T212235Z
LAST-MODIFIED:20260306T212728Z
UID:2088-1775553300-1775557800@newtownboardrealtors.com
SUMMARY:April Membership Meeting
DESCRIPTION:NEW DATE! \n  \n \nJoin us for an engaging Newtown Board of Realtors membership meeting featuring timely insights from First Selectman Bruce Walczak and Superintendent of Newtown Public Schools Anne Uberti. We’ll also hear briefly from a representative of the Friends of the C.H. Booth Library\, who will share how they can help your clients responsibly donate unwanted books. Plus\, enjoy fresh coffee and treats courtesy of our sponsor\, Kash & Liv Coffee Creations! A great opportunity to stay informed\, connected\, and caffeinated. ☕
URL:https://newtownboardrealtors.com/event/aprilmembermeet/
LOCATION:Newtown Municipal Center\, 3 Primrose St\, Newtown\, CT\, 06470\, United States
CATEGORIES:Membership Meeting
ORGANIZER;CN="Lindsay Gaudioso":MAILTO:lindsaygaudioso@gmail.com
END:VEVENT
BEGIN:VEVENT
DTSTART;TZID=America/New_York:20260410T090000
DTEND;TZID=America/New_York:20260410T100000
DTSTAMP:20260423T190033
CREATED:20260201T212800Z
LAST-MODIFIED:20260201T221315Z
UID:1985-1775811600-1775815200@newtownboardrealtors.com
SUMMARY:April Board of Directors Meeting
DESCRIPTION:Agenda\, Minutes and Treasurer Information to be Sent Separately.
URL:https://newtownboardrealtors.com/event/april-board-of-directors-meeting/
LOCATION:Online via Zoom
CATEGORIES:Board Meeting
ORGANIZER;CN="Fran Cormier":MAILTO:gfbor@fairfieldboardrealtors.com
END:VEVENT
BEGIN:VEVENT
DTSTART;TZID=America/New_York:20260508T090000
DTEND;TZID=America/New_York:20260508T100000
DTSTAMP:20260423T190033
CREATED:20260201T213557Z
LAST-MODIFIED:20260201T221618Z
UID:1989-1778230800-1778234400@newtownboardrealtors.com
SUMMARY:May Board of Directors Meeting
DESCRIPTION:Agenda\, Minutes and Treasurer Information to be Sent Separately.
URL:https://newtownboardrealtors.com/event/may-board-of-directors-meeting/
LOCATION:Online via Zoom
CATEGORIES:Board Meeting
ORGANIZER;CN="Fran Cormier":MAILTO:gfbor@fairfieldboardrealtors.com
END:VEVENT
BEGIN:VEVENT
DTSTART;TZID=America/New_York:20260516T110000
DTEND;TZID=America/New_York:20260516T140000
DTSTAMP:20260423T190033
CREATED:20260201T220027Z
LAST-MODIFIED:20260201T221900Z
UID:1991-1778929200-1778940000@newtownboardrealtors.com
SUMMARY:Annual Strutt Your Mutt Event
DESCRIPTION:Join the Newtown Board of Realtors and Newtown Park & Recreation for a fabulous event with your pooch! \nFeaturing: \n\nFun 2K Walk\nRally & Obstacle Fun Course with Canine Diplomat\nDog-Friendly Games\nVendors\nCrazy Taco Mex Food Truck\nBrewberry Cafe Trailer\nFree Puppucinos\n\nAll dogs must be leashed\, no flexi-leads permitted. $10 per pooch. \n*** Rain Date: Sunday\, May 17 2026
URL:https://newtownboardrealtors.com/event/annual-strutt-your-mutt-event/
LOCATION:Fairfield Hills Campus\, Keating Farms Ave\, Newtown\, CT\, 06470\, United States
CATEGORIES:Community Event
END:VEVENT
BEGIN:VEVENT
DTSTART;TZID=America/New_York:20260604T150000
DTEND;TZID=America/New_York:20260604T180000
DTSTAMP:20260423T190033
CREATED:20260201T220206Z
LAST-MODIFIED:20260410T203457Z
UID:1995-1780585200-1780596000@newtownboardrealtors.com
SUMMARY:June Membership Meeting
DESCRIPTION:
URL:https://newtownboardrealtors.com/event/june-membership-meeting/
LOCATION:Newtown Community Center\, 8 Simpson Street\, Newtown\, CT\, 06470\, United States
CATEGORIES:Membership Meeting,Social Event
ORGANIZER;CN="Lindsay Gaudioso":MAILTO:lindsaygaudioso@gmail.com
END:VEVENT
BEGIN:VEVENT
DTSTART;TZID=America/New_York:20260911T090000
DTEND;TZID=America/New_York:20260911T100000
DTSTAMP:20260423T190033
CREATED:20260201T222145Z
LAST-MODIFIED:20260201T222145Z
UID:2004-1789117200-1789120800@newtownboardrealtors.com
SUMMARY:September Board of Directors Meeting
DESCRIPTION:Agenda\, Minutes and Treasurer Information to be Sent Separately.
URL:https://newtownboardrealtors.com/event/september-board-of-directors-meeting/
LOCATION:Online via Zoom
CATEGORIES:Board Meeting
ORGANIZER;CN="Fran Cormier":MAILTO:gfbor@fairfieldboardrealtors.com
END:VEVENT
BEGIN:VEVENT
DTSTART;TZID=America/New_York:20260918T110000
DTEND;TZID=America/New_York:20260920T170000
DTSTAMP:20260423T190033
CREATED:20260201T224233Z
LAST-MODIFIED:20260201T224233Z
UID:2008-1789729200-1789923600@newtownboardrealtors.com
SUMMARY:Newtown Arts Festival
DESCRIPTION:The Newtown Arts Festival\, proudly sponsored by the Newtown Cultural Arts Commission\, is a vibrant weekend-long celebration of creativity held each September. Enjoy live music\, local and regional artists\, delicious food\, and engaging activities for all ages—all coming together to showcase Newtown’s thriving arts scene. It’s a lively\, community-focused event that invites everyone to explore\, connect\, and celebrate the arts from Friday through Sunday.  Proceeds from this event are primarily used to fund scholarships for graduating high school seniors and provide grants to local artists and art organizations. 🎶🎨🍴 \nThe Newtown Board of Realtors are one of the sponsors and provides volunteers for the Beer & Wine Tent all weekend long.
URL:https://newtownboardrealtors.com/event/newtown-arts-festival/
LOCATION:Fairfield Hills Campus\, Keating Farms Ave\, Newtown\, CT\, 06470\, United States
CATEGORIES:Community Event
END:VEVENT
BEGIN:VEVENT
DTSTART;VALUE=DATE:20260924
DTEND;VALUE=DATE:20260925
DTSTAMP:20260423T190033
CREATED:20260201T222356Z
LAST-MODIFIED:20260201T222356Z
UID:2006-1790208000-1790294399@newtownboardrealtors.com
SUMMARY:September Membership Meeting
DESCRIPTION:Vote on 2027 Board of Directors Slate \nOther Topics and Location: TBD
URL:https://newtownboardrealtors.com/event/september-membership-meeting/
LOCATION:CT
CATEGORIES:Membership Meeting
ORGANIZER;CN="Lindsay Gaudioso":MAILTO:lindsaygaudioso@gmail.com
END:VEVENT
BEGIN:VEVENT
DTSTART;TZID=America/New_York:20261009T090000
DTEND;TZID=America/New_York:20261009T100000
DTSTAMP:20260423T190033
CREATED:20260201T224407Z
LAST-MODIFIED:20260201T224407Z
UID:2011-1791536400-1791540000@newtownboardrealtors.com
SUMMARY:October Board of Directors Meeting
DESCRIPTION:Agenda\, Minutes and Treasurer Information to be Sent Separately.
URL:https://newtownboardrealtors.com/event/october-board-of-directors-meeting/
LOCATION:Online via Zoom
CATEGORIES:Board Meeting
ORGANIZER;CN="Fran Cormier":MAILTO:gfbor@fairfieldboardrealtors.com
END:VEVENT
BEGIN:VEVENT
DTSTART;TZID=America/New_York:20261113T090000
DTEND;TZID=America/New_York:20261113T100000
DTSTAMP:20260423T190033
CREATED:20260201T224509Z
LAST-MODIFIED:20260201T224509Z
UID:2013-1794560400-1794564000@newtownboardrealtors.com
SUMMARY:November Board of Directors Meeting
DESCRIPTION:Agenda\, Minutes and Treasurer Information to be Sent Separately.
URL:https://newtownboardrealtors.com/event/november-board-of-directors-meeting-2/
LOCATION:Online via Zoom
CATEGORIES:Board Meeting
ORGANIZER;CN="Fran Cormier":MAILTO:gfbor@fairfieldboardrealtors.com
END:VEVENT
BEGIN:VEVENT
DTSTART;VALUE=DATE:20261203
DTEND;VALUE=DATE:20261204
DTSTAMP:20260423T190033
CREATED:20260201T225725Z
LAST-MODIFIED:20260201T230301Z
UID:2017-1796256000-1796342399@newtownboardrealtors.com
SUMMARY:Holiday Membership Party
DESCRIPTION:Celebrate the season with the Newtown Board of Realtors at our annual Holiday Party ~ an evening that brings business and celebration together. The event will feature the installation of the 2027 Newtown Board of Directors\, a special appreciation ceremony honoring our valued sponsors\, and plenty of time to enjoy great food\, music\, dancing\, and meaningful conversation with fellow Realtors. It’s the perfect way to reflect\, connect\, and toast to the year ahead. 🎉🥂
URL:https://newtownboardrealtors.com/event/holiday-membership-party/
LOCATION:CT
CATEGORIES:Membership Meeting,Social Event
ORGANIZER;CN="Lindsay Gaudioso":MAILTO:lindsaygaudioso@gmail.com
END:VEVENT
BEGIN:VEVENT
DTSTART;TZID=America/New_York:20261211T090000
DTEND;TZID=America/New_York:20261211T100000
DTSTAMP:20260423T190033
CREATED:20260201T224607Z
LAST-MODIFIED:20260201T224607Z
UID:2015-1796979600-1796983200@newtownboardrealtors.com
SUMMARY:December Board of Directors Meeting
DESCRIPTION:Agenda\, Minutes and Treasurer Information to be Sent Separately.
URL:https://newtownboardrealtors.com/event/december-board-of-directors-meeting-2/
LOCATION:Online via Zoom
CATEGORIES:Board Meeting
ORGANIZER;CN="Fran Cormier":MAILTO:gfbor@fairfieldboardrealtors.com
END:VEVENT
END:VCALENDAR